BEGIN:VCALENDAR
VERSION:2.0
PRODID:-//MCS//Seattle//EN
CALSCALE:GREGORIAN
METHOD:PUBLISH
BEGIN:VTIMEZONE
TZID:UTC
BEGIN:STANDARD
DTSTART:20250101T080000
TZOFFSETTO:+0000
TZOFFSETFROM:+0000
END:STANDARD
END:VTIMEZONE
BEGIN:VEVENT
UID:805133
DTSTART:20250507T020000
DTEND:20250507T033000
STATUS:TENTATIVE
SUMMARY:Consult Group
DESCRIPTION:NPSI Consult Group\nThe Tuesdays when this group WILL NOT 
 meet:\nOctober 29\, 2024\, November 26\, 2024\, December 24 and 31\, 2
 024.\nFor any changes to scheduling\, check in with your faculty perso
 n.\n 
DTSTAMP:20260421T100058Z
ORGANIZER;SENT-BY="mailto:admin@npsi.us.com";CN=Carol Bolt:
END:VEVENT
END:VCALENDAR
