BEGIN:VCALENDAR
VERSION:2.0
PRODID:-//MCS//Phoenix//EN
CALSCALE:GREGORIAN
METHOD:PUBLISH
BEGIN:VTIMEZONE
TZID:UTC
BEGIN:STANDARD
DTSTART:20250101T080000
TZOFFSETTO:+0000
TZOFFSETFROM:+0000
END:STANDARD
END:VTIMEZONE
BEGIN:VEVENT
UID:818991
DTSTART:20250524T113000
DTEND:20250524T153000
STATUS:TENTATIVE
SUMMARY:Gilbert Water Lantern Festival
DESCRIPTION:The Gilbert Water Lantern Festival is bringing people toge
 ther for a celebration of light and community! This unforgettable even
 ing will be filled with tasty food trucks\, fun music\, activities\, a
 nd thousands of lanterns lighting up the night with love\, hope\, and 
 happiness. The event is taking place on May 24th at Gilbert Regional P
 ark! Tickets are selling fast! Make sure to claim yours now on our web
 site (www.waterlanternfestival.com) and follow us on social media @wat
 erlanternfestival. Use coupon code "ILLUMINATE5" for a $5 discount at 
 checkout! Visit www.WaterLanternFestival.com for more details.
URL:https://tickets.waterlanternfestival.com/gilbert
DTSTAMP:20260421T083330Z
ORGANIZER;SENT-BY="mailto:press@waterlanternfestival.com";CN=Water Lan
 tern Festival:
END:VEVENT
END:VCALENDAR
