BEGIN:VCALENDAR
VERSION:2.0
PRODID:-//MCS//Santa-Barbara//EN
CALSCALE:GREGORIAN
METHOD:PUBLISH
BEGIN:VTIMEZONE
TZID:UTC
BEGIN:STANDARD
DTSTART:20250101T080000
TZOFFSETTO:+0000
TZOFFSETFROM:+0000
END:STANDARD
END:VTIMEZONE
BEGIN:VEVENT
UID:819029
DTSTART:20250505T170000
DTEND:20250505T230000
STATUS:TENTATIVE
SUMMARY:Engaging the Feminine Heroic - Screenwriting Workshop with Dar
 a Marks & Deb Norton
DESCRIPTION:Dive into ancient myths and contemporary stories to uncove
 r powerful archetypal patterns that can be harnessed to elevate your s
 torytelling. Through engaging lectures\, evocative film clips\, inspir
 ing writing exercises and playful exploration\, we'll unlock the creat
 ive flow and connect with the timeless wisdom of the Feminine Heroic.
URL:https://illuminatefilmfestival.com/buy-passes/
DTSTAMP:20260423T162159Z
ORGANIZER;SENT-BY="mailto:info@mangomoonmedia.com";CN=Mari  Angulo:
END:VEVENT
END:VCALENDAR
