BEGIN:VCALENDAR
VERSION:2.0
PRODID:-//MCS//Tacoma//EN
CALSCALE:GREGORIAN
METHOD:PUBLISH
BEGIN:VTIMEZONE
TZID:UTC
BEGIN:STANDARD
DTSTART:20250101T080000
TZOFFSETTO:+0000
TZOFFSETFROM:+0000
END:STANDARD
END:VTIMEZONE
BEGIN:VEVENT
UID:819562
DTSTART:20250622T013000
DTEND:20250622T053000
STATUS:TENTATIVE
SUMMARY:Tacoma Water Lantern Festival
DESCRIPTION:The Tacoma Water Lantern Festival is bringing people toget
 her for a celebration of light and community! This unforgettable eveni
 ng will be filled with tasty food trucks\, fun music\, activities\, an
 d thousands of lanterns lighting up the night with love\, hope\, and h
 appiness. The event is taking place on June 21st at Wapato Park! Ticke
 ts are selling fast! Make sure to claim yours now on our website (www.
 waterlanternfestival.com) and follow us on social media @waterlanternf
 estival. 
URL:https://tickets.waterlanternfestival.com/tacoma
DTSTAMP:20260421T085158Z
ORGANIZER;SENT-BY="mailto:press@waterlanternfestival.com";CN=Water Lan
 tern Festival:
END:VEVENT
END:VCALENDAR
