BEGIN:VCALENDAR
VERSION:2.0
PRODID:-//MCS//Port-Townsend---Jefferson-County//EN
CALSCALE:GREGORIAN
METHOD:PUBLISH
BEGIN:VTIMEZONE
TZID:UTC
BEGIN:STANDARD
DTSTART:20250101T080000
TZOFFSETTO:+0000
TZOFFSETFROM:+0000
END:STANDARD
END:VTIMEZONE
BEGIN:VEVENT
UID:820539
DTSTART:20250504T200000
DTEND:20250505T010000
STATUS:TENTATIVE
SUMMARY:Chimacum Record Show | All Ages
DESCRIPTION:Chimacum Record ShowSunday 1-6pmMay 4th\, 2025\n \nIn an 
 effort to support local businesses\, the Chimacum Record Show features
  vendors exclusively from the Olympic and Kitsap Peninsulas. Records b
 eing sold come in all price ranges and genres. \nMusic entertainment 
 features the Tembo Blanco Soundsystem: A collective of top ranking DJs
  and selectors playing Jamaican inspired music the traditional way - o
 n vinyl. Come feel the positive vibrations of Reggae\, Dub\, Ska\, Dan
 cehall and Latin Dub from a collective of local DJs and a rotating lis
 t of guests from Seattle\, San Francisco\, New York\, and Los Angeles.
 \nSpring forward into vinyl! Come swap\, buy\, and dance! Listen to l
 ocal DJ's spin their favorite vinyls.No Cover\, All Ages
URL:https://www.facebook.com/share/15Puepm9xc/
DTSTAMP:20260421T090342Z
ORGANIZER;SENT-BY="mailto:communications@finnriver.com";CN=Finnriver  
 Marketing & Sales Manager:
END:VEVENT
END:VCALENDAR
