BEGIN:VCALENDAR
VERSION:2.0
PRODID:-//MCS//Port-Townsend---Jefferson-County//EN
CALSCALE:GREGORIAN
METHOD:PUBLISH
BEGIN:VTIMEZONE
TZID:UTC
BEGIN:STANDARD
DTSTART:20250101T080000
TZOFFSETTO:+0000
TZOFFSETFROM:+0000
END:STANDARD
END:VTIMEZONE
BEGIN:VEVENT
UID:821888
DTSTART:20250609T000000
DTEND:20250609T020000
STATUS:TENTATIVE
SUMMARY:Sol de Noche | Tango & Folk from Argentina
DESCRIPTION:Finnriver is excited to host Sol de Noche!\nA Tango band t
 hat offers a repertoire focused in Argentine Tango and traditional dan
 ce music from south America\, including ballads\, valses\, milongas\, 
 candombes\, chacareras and zambas. The core of the band is a duo\, Mir
 ta Wymerszberg on flute\,vocals and bandoneon) and Sebastian Quintero 
 on guitar\, with occasional guests on bass and violin. Mirta has perfo
 rmed with relevant Argentine Tango musicians like: Gustavo Beytelmann\
 , Hernan Reinaudo\, Claudio Mendez\, Roberto Amerise and Juan Lorenzo.
 \nShe has recorded several cds: FLOR de Tango\, 2000\; Figuracion de G
 abino Betinotti\, 2009 A dos Puntas\, 2016\; Ay Margarita\, 2011 (chil
 dren's music in Spanish)\; and Endiablada de Tangos (2016) that had be
 en selected to be part of the Playback collection at the Seattle Publi
 c Library. She has recently released "El Rio de la vida" album during 
 2024.\n*30 minutes before music starts\, a cover charge (up to $5\, ex
 cluding children) will be collected. All funds collected go to the mus
 ic program.
DTSTAMP:20260425T171449Z
ORGANIZER;SENT-BY="mailto:communications@finnriver.com";CN=Finnriver  
 Marketing & Sales Manager:
END:VEVENT
END:VCALENDAR
