BEGIN:VCALENDAR
VERSION:2.0
PRODID:-//MCS//Port-Townsend---Jefferson-County//EN
CALSCALE:GREGORIAN
METHOD:PUBLISH
BEGIN:VTIMEZONE
TZID:UTC
BEGIN:STANDARD
DTSTART:20250101T080000
TZOFFSETTO:+0000
TZOFFSETFROM:+0000
END:STANDARD
END:VTIMEZONE
BEGIN:VEVENT
UID:823979
DTSTART:20250607T190000
DTEND:20250608T020000
STATUS:TENTATIVE
SUMMARY:Friendly Nettle
DESCRIPTION:On Saturdays from 12pm - 7pm\, Friendly Nettle will be ser
 ving up bahn mi sandwiches made with local pork from One Straw Ranch a
 nd local tempeh from Water Moon Tempeh. They will also be offering Jap
  Chae (a gluten free Korean noodle salad)\nFriendly nettle will be loc
 ated next door to Dented Buoy pizza and across from Moonlight Oysters.
 \n\nFriendly Nettle Summer Hours:\n🍜Fridays 4-7\n🍜Saturdays 12-7
 \n🍜Sundays 12-7
DTSTAMP:20260421T082607Z
ORGANIZER;SENT-BY="mailto:communications@finnriver.com";CN=Finnriver  
 Marketing & Sales Manager:
END:VEVENT
END:VCALENDAR
