BEGIN:VCALENDAR
VERSION:2.0
PRODID:-//MCS//Ogden//EN
CALSCALE:GREGORIAN
METHOD:PUBLISH
BEGIN:VTIMEZONE
TZID:UTC
BEGIN:STANDARD
DTSTART:20250101T080000
TZOFFSETTO:+0000
TZOFFSETFROM:+0000
END:STANDARD
END:VTIMEZONE
BEGIN:VEVENT
UID:827403
DTSTART:20250817T000000
DTEND:20250817T040000
STATUS:TENTATIVE
SUMMARY:Davis County Water Lantern Festival
DESCRIPTION:The Davis County Water Lantern Festival is bringing people
  together for a celebration of light and community! This unforgettable
  evening will be filled with tasty food trucks\, fun music\, activitie
 s\, and thousands of lanterns lighting up the night with love\, hope\,
  and happiness. The event is taking place on August 16th at Jensen Nat
 ure Park! Tickets are selling fast! Make sure to claim yours now on ou
 r website (www.waterlanternfestival.com) and follow us on social media
  @waterlanternfestival
URL:https://www.waterlanternfestival.com/events/davis-county
DTSTAMP:20260423T154240Z
ORGANIZER;SENT-BY="mailto:press@waterlanternfestival.com";CN=Water Lan
 tern Festival:
END:VEVENT
END:VCALENDAR
