BEGIN:VCALENDAR
VERSION:2.0
PRODID:-//MCS//Birmingham//EN
CALSCALE:GREGORIAN
METHOD:PUBLISH
BEGIN:VTIMEZONE
TZID:UTC
BEGIN:STANDARD
DTSTART:20250101T080000
TZOFFSETTO:+0000
TZOFFSETFROM:+0000
END:STANDARD
END:VTIMEZONE
BEGIN:VEVENT
UID:836557
DTSTART:20251024T220000
DTEND:20251025T020000
STATUS:TENTATIVE
SUMMARY:2025 MADE SOUTH Fall Market VIP Party 
DESCRIPTION:Celebrate the changing season at the 2025 MADE SOUTH Fall 
 Market VIP Party presented by SoulGrown Magazine\, happening Friday Oc
 tober 24 at Events at Haven in Birmingham.\nThis curated market experi
 ence brings together 50+ makers and artisans from across the South\, o
 ffering a one-of-a-kind shopping experience filled with handcrafted go
 ods\, home decor\, art\, apparel\, jewelry\, gourmet food\, and more. 
 Enjoy live music and food with a festive\, seasonal atmosphere that ce
 lebrates Southern creativity\, craftsmanship\, and community.\nThe eve
 nt kicks off Friday night with a exclusive shopping event with cocktai
 ls\, chef tastings\, and live music. VIP Party is 21+.\nA portion of p
 roceeds will benefit #FeedBHM and Grace Klein Community\, a Birmingham
  nonprofit providing food access for local families in need.
URL:https://www.madesouthmarket.com/made-south-fall-market
DTSTAMP:20260420T141452Z
ORGANIZER;SENT-BY="mailto:lisamixonkennedy@gmail.com";CN=Lisa  Kennedy :
END:VEVENT
END:VCALENDAR
