BEGIN:VCALENDAR
VERSION:2.0
PRODID:-//MCS//Tacoma//EN
CALSCALE:GREGORIAN
METHOD:PUBLISH
BEGIN:VTIMEZONE
TZID:UTC
BEGIN:STANDARD
DTSTART:20250101T080000
TZOFFSETTO:+0000
TZOFFSETFROM:+0000
END:STANDARD
END:VTIMEZONE
BEGIN:VEVENT
UID:837483
DTSTART:20251018T061600
DTEND:20251019T050000
STATUS:TENTATIVE
SUMMARY:Imaginarium “Zenthara”- at Lakewood Center 
DESCRIPTION:Imaginarium’s first indoor-outdoor exhibit\, Zenthara wi
 ll offer picture-perfect moments through surreal storybook realms brou
 ght to life with millions of lights and cutting-edge creativity. Guest
 s will wander through romantic rose gardens blooming in gradient pinks
  and pastels\; pass through a heart tunnel lit with warm hues\; cross 
 a misty Swan Lake\; and enter a golden Sunflower Garden with a wish-ma
 king windchime wall. In the Fluorescent Forests\, each grove will glow
  in a different color theme\, from yellow to blue to pink and more\, w
 hile interactive installations will invite visitors to bounce on illum
 inated spheres or doodle across projection walls.\n \nThe experience 
 features nightly performances from John’s Adrenaline Circus. A high-
 energy fusion of traditional circus flair and extreme sports\, the sho
 w features motorcycle tricks\, BMX stunt riders\, aerialists and acrob
 ats\, jugglers and comedic clown acts\, and the world-famous “Globe 
 of Death” – a jaw-dropping act where riders perform inside a steel
  sphere.\n \nLocated at 500 Lakewood Center Dr. in Lakewood\, Califor
 nia\, Imaginarium’s Zentara is open from 6 to 10 p.m. Sunday\, Wedne
 sday and Thursday\, and from 5 to 11 p.m. on Friday and Saturday. Gene
 ral admission starts at $21 per person. Discounted tickets are availab
 le for children ages three to 12\, seniors 62 and older and military p
 ersonnel with a valid ID. Children two and under are free. Snacks and 
 beverages will be available for purchase. Parking is free.
URL:https://imaginarium360.com/lakewood-ca/ 
DTSTAMP:20260424T170209Z
ORGANIZER;SENT-BY="mailto:katherine.borsting@wickedcreative.com";CN=Ka
 therine Borsting:
END:VEVENT
END:VCALENDAR
