BEGIN:VCALENDAR
VERSION:2.0
PRODID:-//MCS//Miami//EN
CALSCALE:GREGORIAN
METHOD:PUBLISH
BEGIN:VTIMEZONE
TZID:UTC
BEGIN:STANDARD
DTSTART:20250101T080000
TZOFFSETTO:+0000
TZOFFSETFROM:+0000
END:STANDARD
END:VTIMEZONE
BEGIN:VEVENT
UID:839060
DTSTART:20251122T200000
DTEND:20251123T000000
STATUS:TENTATIVE
SUMMARY:Fort Lauderdale Water Lantern Festival
DESCRIPTION:The Fort Lauderdale Water Lantern Festival is bringing peo
 ple together for a celebration of light and community! This unforgetta
 ble evening will be filled with tasty food trucks\, fun music\, activi
 ties\, and thousands of lanterns lighting up the night with love\, hop
 e\, and happiness. The event is taking place on November 22nd at Mills
  Pond Park! Tickets are selling fast! Make sure to claim yours now on 
 our website (www.waterlanternfestival.com) and follow us on social med
 ia @waterlanternfestival
URL:https://www.waterlanternfestival.com/events/fort-lauderdale
DTSTAMP:20260420T135915Z
ORGANIZER;SENT-BY="mailto:press@waterlanternfestival.com";CN=Water Lan
 tern Festival:
END:VEVENT
END:VCALENDAR
