BEGIN:VCALENDAR
VERSION:2.0
PRODID:-//MCS//Port-Townsend---Jefferson-County//EN
CALSCALE:GREGORIAN
METHOD:PUBLISH
BEGIN:VTIMEZONE
TZID:UTC
BEGIN:STANDARD
DTSTART:20250101T080000
TZOFFSETTO:+0000
TZOFFSETFROM:+0000
END:STANDARD
END:VTIMEZONE
BEGIN:VEVENT
UID:841454
DTSTART:20251101T030000
DTEND:20251101T100000
STATUS:TENTATIVE
SUMMARY:Memento Mori 3: Halloween @ Manresa Castle
DESCRIPTION:21+ // Doors @ 8PM\, Show @ 9:30PM$25 earlybird email list
  / $30+ adv / $40+ door2 Tickets per bed included with rooms at manres
 acastle.comGA Advance Tickets go on sale 12PM Tuesday October 7th.3 Da
 ncefloors\, 3 Bars\, DJs spinning electronic music & live performances
 \nYou may have heard rumors\, and it’s true: The veil between worlds
  is thinning\, and HALLOWEEN at MANRESA CASTLE is back from beyond thi
 s Friday\, October 31st\nThis party is thrown by the AS ABOVE\, SO BEL
 OW crew - behind the festival of the same name - and comprised of many
  of the same performers & DJs who solidified the Manresa Castle's repu
 tation as the stuff of legend for Halloween and NYE.\nRoom sales inclu
 de two tickets per bed. Early bird ticket sales for the event will beg
 in Monday 10/6 at 12PM with a limited quantity available to our email 
 list and Instagram\, only. On Tuesday general tickets will go on sale 
 @ $30 and up. Tickets sold out last year\, don't wait!\nMEMENTO MORI i
 s a Halloween party celebrating the spooky thinning of the veil betwee
 n worlds. Memento Mori is an ancient Latin phrase which means 'Remembe
 r Death': a helpful reminder to live life to its fullest\, and to enjo
 y things while they last. \nThrough the magic of the thinning of veil
 s\, this epic party is returning from beyond - and presenting our comm
 unity with the rarest of second chances!
URL:https://asabovesobelowpnw.com/tickets
DTSTAMP:20260424T173857Z
ORGANIZER;SENT-BY="mailto:info@asabovesobelowpnw.com";CN=Mark Hardy:
END:VEVENT
END:VCALENDAR
