BEGIN:VCALENDAR
VERSION:2.0
PRODID:-//MCS//Los-Angeles//EN
CALSCALE:GREGORIAN
METHOD:PUBLISH
BEGIN:VTIMEZONE
TZID:UTC
BEGIN:STANDARD
DTSTART:20250101T080000
TZOFFSETTO:+0000
TZOFFSETFROM:+0000
END:STANDARD
END:VTIMEZONE
BEGIN:VEVENT
UID:845348
DTSTART:20251211T010000
DTEND:20251211T060000
STATUS:TENTATIVE
SUMMARY:Imaginarium “Land of Oz” at Fairplex in Pomona
DESCRIPTION:Imaginarium’s “Land of Oz” light spectacular transfo
 rms more than two acres of Fairplex into a shimmering\, magical realm 
 filled with color\, magic and beloved storybook characters. Guests can
  lose themselves in the Emerald Mirror Maze\, a radiant labyrinth of s
 tretching reflections and luminous hues\; and wander through the Wizar
 d of Oz Gardens\, where the golden floral fields\, larger-than-life la
 ndscapes and unforgettable encounters with beloved characters fully im
 merse visitors into the dazzling world of Oz. \nElectrifying nightly 
 shows from Cirque Legacy Wonderland are included with admission\, feat
 uring family-friendly performances with acrobatics\, juggling\, contor
 tion acts and more.\nLocated at 1101 W. McKinley Ave. in Pomona\, Cali
 fornia\, “Land of Oz” is open from 5 to 10 p.m. Wednesdays through
  Sundays from Monday\, Dec. 1\, to Tuesday\, Dec. 16\; and from 5 to 1
 0 p.m. daily from Wednesday\, Dec. 17\, to Sunday\, Jan. 4\, 2026. Gen
 eral admission starts at $22 per person. Discounted tickets are availa
 ble for children ages three to 12\, seniors 62 and older and military 
 personnel with a valid ID. Children two and under are free. Snacks and
  beverages are available for purchase.
URL:https://imaginarium360.com/pomona-ca/
DTSTAMP:20260424T165744Z
ORGANIZER;SENT-BY="mailto:katherine.borsting@wickedcreative.com";CN=Ka
 therine Borsting:
END:VEVENT
END:VCALENDAR
