BEGIN:VCALENDAR
VERSION:2.0
PRODID:-//MCS//Philadelphia//EN
CALSCALE:GREGORIAN
METHOD:PUBLISH
BEGIN:VTIMEZONE
TZID:UTC
BEGIN:STANDARD
DTSTART:20260101T080000
TZOFFSETTO:+0000
TZOFFSETFROM:+0000
END:STANDARD
END:VTIMEZONE
BEGIN:VEVENT
UID:846479
DTSTART:20260925T210000
DTEND:20260926T000000
STATUS:TENTATIVE
SUMMARY:Happy Hour Music with Randy Z
DESCRIPTION:Friday Hours 11am-8pm\nHappy Hour 5pm-7pm\nLive Music by R
 andy Z 5pm-8pm\n$2 off all glasses of wine and beer for happy hour\nCo
 me on in for wine glasses\, bottles\, and flights. Also serving local 
 PA Draft Beer\, Wine Slushies\, PA Craft Cocktails\, and Light Bites.
DTSTAMP:20260421T084921Z
ORGANIZER;SENT-BY="mailto:info@paradocx.com";CN=Trish Brown:
END:VEVENT
END:VCALENDAR
