BEGIN:VCALENDAR
VERSION:2.0
PRODID:-//MCS//Central-Jersey//EN
CALSCALE:GREGORIAN
METHOD:PUBLISH
BEGIN:VTIMEZONE
TZID:UTC
BEGIN:STANDARD
DTSTART:20260101T080000
TZOFFSETTO:+0000
TZOFFSETFROM:+0000
END:STANDARD
END:VTIMEZONE
BEGIN:VEVENT
UID:846612
DTSTART:20260613T180000
DTEND:20260613T200000
STATUS:TENTATIVE
SUMMARY:The Calamari Sisters Sausagefest
DESCRIPTION:Delphine and Carmela Calamari are bringing their 23rd Annu
 al Italian Sausagefest to the Herberger Theatre! This is a BRAND NEW s
 how for Phoenix so come celebrate the memories of summer with these sa
 ssy\, brassy broads from Brooklyn as they sing\, dance\, and cook deli
 cious street fair goodies for you and your friends. Whether you’re a
  sausage-lover or not\, you’ll laugh until your sides ache and fall 
 in love with these dynamic sisters. Come learn more secret recipes\, h
 ear hilarious Calamari family anecdotes\, taste their sausage and pepp
 ers\, help them make fried dough\, and compete in the annual fertility
  and virility competition while the Sisters sing their own special ver
 sions of Broadway and Pop favorites. Get ready for a raucous good time
  and above all else\, open wide ‘cause here comes the sausage!!"Laug
 h Out Loud Funny!" - Philadelphia Inquirer"Wicked\, Naughty Humor!" - 
 Broadway World"Delightful and Absolutely Delicious" - NY Newsday Runni
 ng Time:approx. two 55-minute acts (plus intermission)Show Times:Thu. 
 2 & 7:30 PM\, Fri. 7 PM\, Sat. 2 & 7:30 PM\, Sun. 2 PMBOX OFFICE 302-5
 27-1100Group Discounts available: Please call 1-888-264-1788 or email 
 : groupsales@playhouseinfo.com for groups 12 or more
URL:https://delawaretheatre.my.salesforce-sites.com/ticket/#/instances
 /a0FPW00000nC4bX2AS/sectionGroups/a0bPW00000T7xp3YAB
DTSTAMP:20260419T125557Z
ORGANIZER;SENT-BY="mailto:events@cityspark.com";CN=Cityspark Events:
END:VEVENT
END:VCALENDAR
