BEGIN:VCALENDAR
VERSION:2.0
PRODID:-//MCS//Philadelphia//EN
CALSCALE:GREGORIAN
METHOD:PUBLISH
BEGIN:VTIMEZONE
TZID:UTC
BEGIN:STANDARD
DTSTART:20260101T080000
TZOFFSETTO:+0000
TZOFFSETFROM:+0000
END:STANDARD
END:VTIMEZONE
BEGIN:VEVENT
UID:848297
DTSTART:20260904T210000
DTEND:20260905T000000
STATUS:TENTATIVE
SUMMARY:Happy Hour Music with Joe and Wendy
DESCRIPTION:Friday Hours 11am-8pm\nHappy Hour 5pm-7pm\nLive Music by J
 oe & Wendy 5pm-8pm\n$2 off all glasses of wine and beer for happy hour
 \nCome on in for wine glasses\, bottles\, and flights. Also serving lo
 cal PA Draft Beer\, Wine Slushies\, PA Craft Cocktails\, and Light Bit
 es.
DTSTAMP:20260421T085651Z
ORGANIZER;SENT-BY="mailto:info@paradocx.com";CN=Trish Brown:
END:VEVENT
END:VCALENDAR
