BEGIN:VCALENDAR
VERSION:2.0
PRODID:-//MCS//Orange-County//EN
CALSCALE:GREGORIAN
METHOD:PUBLISH
BEGIN:VTIMEZONE
TZID:UTC
BEGIN:STANDARD
DTSTART:20260101T080000
TZOFFSETTO:+0000
TZOFFSETFROM:+0000
END:STANDARD
END:VTIMEZONE
BEGIN:VEVENT
UID:849667
DTSTART:20260305T200000
DTEND:20260306T030000
STATUS:TENTATIVE
SUMMARY:Pacific Coast Sportfishing Show
DESCRIPTION:Returns for the 16th year!\nThe Pacific Coast Sportfishing
  Tackle\, Boat\, Travel\, and Outdoors Show is the West Coasts Premier
  Outdoors Show. Located at the Orange County\, Fair & Events Center in
  beautiful Orange County\, California the show draws vendors from all 
 over the country including manufacturers\, retail sales\, travel lodge
 s and dealers of hundreds of outdoor products.\nSeven halls\, 250\,000
  sq feet of Salt and Freshwater Fishing Tackle\, Boats\, Travel Destin
 ations and Everything Outdoors!\nFamilies and children are welcome wit
 h free entry for Kids 12 and Under. Plus a Free Kids Trout Pond at the
  show!\nSHOW DATES & TIMES:\nMAR 5: Thu\, 12:00 PM – 7:00 PM PST\nM
 AR 6: Fri\, 12:00 PM – 7:00 PM PST\nMAR 7: Sat\, 10:00 AM – 7:00
  PM PST\nMAR 8: Sun\, 10:00 AM – 5:00 PM PST\nTickets are $20 at th
 e door. Online Tickets are $20 + Eventbrite Fees. Kids 12 and under &
  active duty military with valid current id are free.
URL:https://www.eventbrite.com/cc/2026-pacific-coast-sportfishing-show
 -4708923?utm-campaign=social&utm-content=creatorshare&utm-medium=disco
 very&utm-term=odclsxcollection&utm-source=cp&aff=escb
DTSTAMP:20260420T090112Z
ORGANIZER;SENT-BY="mailto:jennifer@jpbecker.com";CN=Jennifer Becker:
END:VEVENT
END:VCALENDAR
