BEGIN:VCALENDAR
VERSION:2.0
PRODID:-//MCS//Seattle//EN
CALSCALE:GREGORIAN
METHOD:PUBLISH
BEGIN:VTIMEZONE
TZID:UTC
BEGIN:STANDARD
DTSTART:20260101T080000
TZOFFSETTO:+0000
TZOFFSETFROM:+0000
END:STANDARD
END:VTIMEZONE
BEGIN:VEVENT
UID:850421
DTSTART:20260724T013500
DTEND:20260724T053500
STATUS:TENTATIVE
SUMMARY:Dudes vs DubSea Fish Sticks | $3 Thursday
DESCRIPTION:$3 Thursday returns to The Fryer as the DubSea Fish Sticks
  take on the Dudes. Fans can enjoy select food and drinks for just thr
 ee dollars while watching summer collegiate baseball in a lively\, hig
 h-energy environment at Mel Olson Stadium.
URL:https://tickets.gofishsticks.com/event/dudes-vs-fish-sticks-3-thur
 sday-july-23-2026-n6n9eg
DTSTAMP:20260422T083938Z
ORGANIZER;SENT-BY="mailto:marketing@gofishsticks.com";CN=Tallulah Gran
 quist:
END:VEVENT
END:VCALENDAR
