BEGIN:VCALENDAR
VERSION:2.0
PRODID:-//MCS//Los-Angeles//EN
CALSCALE:GREGORIAN
METHOD:PUBLISH
BEGIN:VTIMEZONE
TZID:UTC
BEGIN:STANDARD
DTSTART:20260101T080000
TZOFFSETTO:+0000
TZOFFSETFROM:+0000
END:STANDARD
END:VTIMEZONE
BEGIN:VEVENT
UID:851219
DTSTART:20260321T170000
DTEND:20260321T210000
STATUS:TENTATIVE
SUMMARY:CE Event: Understanding & Supporting Clients with Borderline P
 ersonality Disorder
DESCRIPTION:Working with clients who present with borderline personali
 ty disorder (BPD) or related traits can be complex\, intense\, and at 
 times overwhelming. This continuing education (CE) training is designe
 d to help clinicians build confidence\, deepen understanding\, and str
 engthen practical skills when supporting this population.\nIn this tra
 ining\, participants will:\nGain a clearer understanding of BPD sympto
 ms and underlying dynamicsExplore common clinical challenges and strat
 egies to navigate themLearn evidence-based approaches to support clien
 ts effectivelyEnhance skills for managing emotionally intense cases wi
 th confidenceThis session is ideal for therapists\, counselors\, socia
 l workers\, and other mental health professionals looking to refine th
 eir approach and improve outcomes for clients with BPD or BPD traits.\
 nCE Credits: [Insert credit info]Format: Online / Live WebinarDate & T
 ime: [Insert date and time]Registration: [Insert link]\nJoin us to mov
 e from uncertainty to confidence in working with complex cases—helpi
 ng both your clients and your clinical practice thrive.
URL:https://re-discovering-you.ce-go.com/understanding-borderline-pers
 onality-disorder-love-and-chaos
DTSTAMP:20260420T083122Z
ORGANIZER;SENT-BY="mailto:lilagalustianmft@gmail.com";CN=Lila Galustian:
END:VEVENT
END:VCALENDAR
