BEGIN:VCALENDAR
VERSION:2.0
PRODID:-//MCS//Milwaukee//EN
CALSCALE:GREGORIAN
METHOD:PUBLISH
BEGIN:VTIMEZONE
TZID:UTC
BEGIN:STANDARD
DTSTART:20260101T080000
TZOFFSETTO:+0000
TZOFFSETFROM:+0000
END:STANDARD
END:VTIMEZONE
BEGIN:VEVENT
UID:852424
DTSTART:20261003T210000
DTEND:20261004T010000
STATUS:TENTATIVE
SUMMARY:Fall Fest - Concert Day
DESCRIPTION:Featuring live music with TWO acts this year! \n11am-1pm 
 All @ Once\n3pm-6pm Stray Bales \n \nMore details to come as we plan
  for a fun filled weekend! 
DTSTAMP:20260421T085157Z
ORGANIZER;SENT-BY="mailto:info@forgottenfirewinery.com";CN=Melissa Joppe:
END:VEVENT
END:VCALENDAR
