BEGIN:VCALENDAR
VERSION:2.0
PRODID:-//MCS//Long-Island//EN
CALSCALE:GREGORIAN
METHOD:PUBLISH
BEGIN:VTIMEZONE
TZID:UTC
BEGIN:STANDARD
DTSTART:20260101T080000
TZOFFSETTO:+0000
TZOFFSETFROM:+0000
END:STANDARD
END:VTIMEZONE
BEGIN:VEVENT
UID:854244
DTSTART:20260507T183000
DTEND:20260507T193000
STATUS:TENTATIVE
SUMMARY:Estate Planning Basics
DESCRIPTION:AveMaria Thompson and Paul Senzer of the Senior Citizens L
 aw Program at Touro Law will present this overview of the importance o
 n estate planning\, including wills\, trusts\, and powers of attorney.
  There will be time for questions and answers. No registration require
 d. For additional information\, please call the library at 631-567-507
 9 or visit our website.
DTSTAMP:20260425T170003Z
ORGANIZER;SENT-BY="mailto:ddiangelo@connetquotlibrary.org";CN=Dawn  Di
 Angelo:
END:VEVENT
END:VCALENDAR
