BEGIN:VCALENDAR
VERSION:2.0
PRODID:-//MCS//Southern-Oregon//EN
CALSCALE:GREGORIAN
METHOD:PUBLISH
BEGIN:VTIMEZONE
TZID:UTC
BEGIN:STANDARD
DTSTART:20260101T080000
TZOFFSETTO:+0000
TZOFFSETFROM:+0000
END:STANDARD
END:VTIMEZONE
BEGIN:VEVENT
UID:854375
DTSTART:20260329T190000
DTEND:20260330T000000
STATUS:TENTATIVE
SUMMARY:March Wine Madness at the Vineyard
DESCRIPTION:Come visit the tasting room as your favorite wines go head
 -to-head to determine vinous supremacy. Fill out your wine bracket and
  compete to win big bold prizes.\n 
URL:https://www.cliffcreek.com/reservations
DTSTAMP:20260422T170716Z
ORGANIZER;SENT-BY="mailto:ruth@cliffcreek.com";CN=Ruth Garvin:
END:VEVENT
END:VCALENDAR
