BEGIN:VCALENDAR
VERSION:2.0
PRODID:-//MCS//Port-Townsend---Jefferson-County//EN
CALSCALE:GREGORIAN
METHOD:PUBLISH
BEGIN:VTIMEZONE
TZID:UTC
BEGIN:STANDARD
DTSTART:20260101T080000
TZOFFSETTO:+0000
TZOFFSETFROM:+0000
END:STANDARD
END:VTIMEZONE
BEGIN:VEVENT
UID:854913
DTSTART:20260412T010000
DTEND:20260412T030000
STATUS:TENTATIVE
SUMMARY:Hinterlands @ The Keg and I 
DESCRIPTION:We're happy to have Hinterlands back to the bar to play on
  the patio!\nAndy Stern plays vox\, guitar\, and harp\, with Kevyn Rub
 io on djembe and other percussion. Hinterlands combines Andy's indie f
 olk rock originals and covers with Kevin's West-African style hand dru
 mming. It's a fun\, energetic show and a great way to enjoy fabulous c
 raft beverages on 23 taps!\nNon-alcoholic drinks\, and snacks (salmon/
 cheese) are also available. Come by and have a pint and a listen.\n 
DTSTAMP:20260421T160756Z
ORGANIZER;SENT-BY="mailto:cathy@thekegandi.com";CN=Cathy Vance:
END:VEVENT
END:VCALENDAR
