BEGIN:VCALENDAR
VERSION:2.0
PRODID:-//MCS//Port-Townsend---Jefferson-County//EN
CALSCALE:GREGORIAN
METHOD:PUBLISH
BEGIN:VTIMEZONE
TZID:UTC
BEGIN:STANDARD
DTSTART:20260101T080000
TZOFFSETTO:+0000
TZOFFSETFROM:+0000
END:STANDARD
END:VTIMEZONE
BEGIN:VEVENT
UID:855146
DTSTART:20260425T210000
DTEND:20260426T000000
STATUS:TENTATIVE
SUMMARY:Spring Wine Release at Port Townsend Vineyards featuring E Pruitt
DESCRIPTION:Join us Saturday\, April 25 from 1–5 PM with live music 
 from E. Pruitt (2–5 PM).\nBlending contemporary jazz\, funk\, R&B\, 
 and neo-soul\, E. Pruitt brings a polished\, immersive sound shaped by
  years of touring and performing alongside internationally recognized 
 artists.\nEnjoy wine tastings\, pick up your Spring selection\, and ex
 perience an afternoon where music and wine come together effortlessly.
 \nOpen to the public
DTSTAMP:20260422T213416Z
ORGANIZER;SENT-BY="mailto:contact@porttownsendvineyards.com";CN=karle 
 coppenrath:
END:VEVENT
END:VCALENDAR
