BEGIN:VCALENDAR
VERSION:2.0
PRODID:-//MCS//Los-Angeles//EN
CALSCALE:GREGORIAN
METHOD:PUBLISH
BEGIN:VTIMEZONE
TZID:UTC
BEGIN:STANDARD
DTSTART:20260101T080000
TZOFFSETTO:+0000
TZOFFSETFROM:+0000
END:STANDARD
END:VTIMEZONE
BEGIN:VEVENT
UID:855237
DTSTART:20260405T220000
DTEND:20260406T000000
STATUS:TENTATIVE
SUMMARY:Twisted
DESCRIPTION:TwistedTheatre West\n3333 Cahuenga Blvd W\, Los Angeles\, 
 CA 90068 Apr 3 - May 3Tickets $33\nAs Scilla begins the journey to un
 cover the truth of the tragic events that took place to her son on his
  college campus\, the path she’s on not only leads to changes in her
  life and worldview\, but ultimately changes in her relationship with 
 her son\, which may turn out to be the biggest tragedy of all.\nLearn 
 More: https://www.eventbrite.com/e/twisted-tickets-1984539663556\n 
URL:https://www.eventbrite.com/e/twisted-tickets-1984539663556
DTSTAMP:20260419T132608Z
ORGANIZER;SENT-BY="mailto:rachel@northstarstudiosla.com";CN=Rachel Yeo:
END:VEVENT
END:VCALENDAR
