BEGIN:VCALENDAR
VERSION:2.0
PRODID:-//MCS//Port-Townsend---Jefferson-County//EN
CALSCALE:GREGORIAN
METHOD:PUBLISH
BEGIN:VTIMEZONE
TZID:UTC
BEGIN:STANDARD
DTSTART:20260101T080000
TZOFFSETTO:+0000
TZOFFSETFROM:+0000
END:STANDARD
END:VTIMEZONE
BEGIN:VEVENT
UID:855766
DTSTART:20260503T010000
DTEND:20260503T030000
STATUS:TENTATIVE
SUMMARY:Craetorus - Alternative Psych Soul
DESCRIPTION:Finnriver welcomes Craetorus!\nCraetorus is a 4 piece band
  from the Kitsap/Seattle area forming together in 2022. What started a
 s Darla Rae’s solo project to this whelming sonic soundscape that is
  Craetorus has made notable strides since beginning. Joining over 10 b
 ands throughout the PNW for their album/single releases\, to playing l
 ocal festivals throughout the PNW— Craetorus is no band to rest on\,
  but an introspective immersion soundscape of sonic-psychedelia and so
 ul.  \ncraetorus.com | IG: @craetorus*30 minutes before music starts\
 , a cover charge (up to $5\, excluding children) will be collected. Al
 l funds collected go to the music program.
DTSTAMP:20260423T150247Z
ORGANIZER;SENT-BY="mailto:communications@finnriver.com";CN=Finnriver  
 Marketing & Sales Manager:
END:VEVENT
END:VCALENDAR
