BEGIN:VCALENDAR
VERSION:2.0
PRODID:-//MCS//Port-Townsend---Jefferson-County//EN
CALSCALE:GREGORIAN
METHOD:PUBLISH
BEGIN:VTIMEZONE
TZID:UTC
BEGIN:STANDARD
DTSTART:20260101T080000
TZOFFSETTO:+0000
TZOFFSETFROM:+0000
END:STANDARD
END:VTIMEZONE
BEGIN:VEVENT
UID:856298
DTSTART:20260423T010000
DTEND:20260423T023000
STATUS:TENTATIVE
SUMMARY:NEXUS Artist Meet Up
DESCRIPTION:Calling all visual artists * writers * performers * filmm
 akers * chefs * craftspeople * makers * designers * & other creativ
 es!\nNEXUS is a monthly gathering for creatives which happens every f
 ourth Wednesday from January-October at a different location in or ar
 ound Port Townsend.\nThis month: Earth Day Button Making & National Po
 etry Month with PT Poet Laureate Rufina C. Garay\nJoin us to: \n+ Con
 nect with other creative practitioners\n+ Share your projects and work
 \n+ Dream a collective future for the arts
DTSTAMP:20260421T084845Z
ORGANIZER;SENT-BY="mailto:arts@cityofpt.us";CN=Test  Account:
END:VEVENT
END:VCALENDAR
