BEGIN:VCALENDAR
VERSION:2.0
PRODID:-//MCS//Port-Townsend---Jefferson-County//EN
CALSCALE:GREGORIAN
METHOD:PUBLISH
BEGIN:VTIMEZONE
TZID:UTC
BEGIN:STANDARD
DTSTART:20260101T080000
TZOFFSETTO:+0000
TZOFFSETFROM:+0000
END:STANDARD
END:VTIMEZONE
BEGIN:VEVENT
UID:856450
DTSTART:20260517T020000
DTEND:20260517T030000
STATUS:TENTATIVE
SUMMARY:Student Wearable Art Show: 7 p.m. performance, presented by PT
  Artscape
DESCRIPTION:PT Artscape presents the Student Wearable Art Show\, a daz
 zling stage production celebrating young artists' imaginations. Now in
  its ninth year\, the show features handmade creations from local youn
 g people. Professional teaching artists from PT Artscape guide the art
  making in preparation for this show. Tickets are available at the doo
 r for a $20 suggested donation for adults\, while students are admitte
 d free. They are also sold in advance at keycitypublictheatre.org. For
  more information\, email ptartscape@gmail.com. Pictured: Zane Thompso
 n in the 2025 Student Wearable Art Show\; photo by Mel Carter. 
URL:https://keycitypublictheatre.org/
DTSTAMP:20260419T130824Z
ORGANIZER;SENT-BY="mailto:communications@northwindart.org";CN=Diane Urbani:
END:VEVENT
END:VCALENDAR
