BEGIN:VCALENDAR
VERSION:2.0
PRODID:-//MCS//Port-Townsend---Jefferson-County//EN
CALSCALE:GREGORIAN
METHOD:PUBLISH
BEGIN:VTIMEZONE
TZID:UTC
BEGIN:STANDARD
DTSTART:20260101T080000
TZOFFSETTO:+0000
TZOFFSETFROM:+0000
END:STANDARD
END:VTIMEZONE
BEGIN:VEVENT
UID:856552
DTSTART:20260121T030000
DTEND:20260121T050000
STATUS:TENTATIVE
SUMMARY:Port Townsend Pub Sing!
DESCRIPTION:Come Sing with Neighbors and Friends!\nNo instruments\, no
  song books\, just singing with enthusiasm!  If you want to lead a so
 ng\, find this month's host\, Chuck Lentz\, and put your  name on the
  list.  Songs should have a chorus or repeating refrain so we can all
  join in.  We are attaching a fine poster prepared by our hosts: Taps
  at the Guardhouse!\n \nYou can reach Chuck at ptpubsing@gmail.com
DTSTAMP:20260424T212112Z
ORGANIZER;SENT-BY="mailto:tapsattheguardhouse@gmail.com";CN=Heidi Haney:
END:VEVENT
END:VCALENDAR
